BEGIN:VCALENDAR
VERSION:2.0
PRODID:-//Gyvenimas per brangus - ECPv4.6.6//NONSGML v1.0//EN
CALSCALE:GREGORIAN
METHOD:PUBLISH
X-WR-CALNAME:Gyvenimas per brangus
X-ORIGINAL-URL:https://gpb.lt
X-WR-CALDESC:Events for Gyvenimas per brangus
BEGIN:VEVENT
DTSTART;TZID=UTC+0:20161230T190000
DTEND;TZID=UTC+0:20161231T010000
DTSTAMP:20260421T103830
CREATED:20161229T193556Z
LAST-MODIFIED:20161229T193556Z
UID:599-1483124400-1483146000@gpb.lt
SUMMARY:SPK vakarėlis
DESCRIPTION:\nSocialinės ir politinės kritikos studijų programos naujametinis vakarėlis emmoj – daug kalbų ir viso kito taip pat. \n  \n
URL:https://gpb.lt/event/spk-vakarelis/
LOCATION:A. Mickevičiaus g. 35 2 aukštas\, Kaunas\, Lietuva
END:VEVENT
END:VCALENDAR